BEGIN:VCALENDAR
VERSION:2.0
PRODID:-//paleoseismicity.org - ECPv6.15.20//NONSGML v1.0//EN
CALSCALE:GREGORIAN
METHOD:PUBLISH
X-WR-CALNAME:paleoseismicity.org
X-ORIGINAL-URL:https://paleoseismicity.org
X-WR-CALDESC:Events for paleoseismicity.org
REFRESH-INTERVAL;VALUE=DURATION:PT1H
X-Robots-Tag:noindex
X-PUBLISHED-TTL:PT1H
BEGIN:VTIMEZONE
TZID:UTC
BEGIN:STANDARD
TZOFFSETFROM:+0000
TZOFFSETTO:+0000
TZNAME:UTC
DTSTART:20180101T000000
END:STANDARD
END:VTIMEZONE
BEGIN:VEVENT
DTSTART;VALUE=DATE:20190818
DTEND;VALUE=DATE:20190824
DTSTAMP:20260422T235826
CREATED:20181126T134353Z
LAST-MODIFIED:20190111T142339Z
UID:10806-1566086400-1566604799@paleoseismicity.org
SUMMARY:17ISGdR\, 18-23 AUG (2019) Issyk Kul\, Kyrgyz Republic
DESCRIPTION:The International Consortium on Geo-disaster Reduction (ICGdR) will hold its 2019 workshop from 18-23 August\, 2019\, at Lake Issyk Kul\, Kyrgyzstan.\nFlyer: Download PDF
URL:https://paleoseismicity.org/event/17isgdr-18-23-aug-2019-issyk-kul-kyrgyz-republic/
LOCATION:Lake Issyk Kul
END:VEVENT
BEGIN:VEVENT
DTSTART;VALUE=DATE:20190824
DTEND;VALUE=DATE:20190831
DTSTAMP:20260422T235826
CREATED:20190128T154520Z
LAST-MODIFIED:20190128T154520Z
UID:10924-1566604800-1567209599@paleoseismicity.org
SUMMARY:EGU Summer School "Structural Analysis of Crystalline Rocks"
DESCRIPTION:The summer school is specifically aimed at PhD students\, Post-Docs and early-career researchers. \nCourse max number of participants: 35
URL:https://paleoseismicity.org/event/egu-summer-school-structural-analysis-of-crystalline-rocks/
LOCATION:Nevessee\, Italy
END:VEVENT
END:VCALENDAR