BEGIN:VCALENDAR
VERSION:2.0
PRODID:-//paleoseismicity.org - ECPv6.15.20//NONSGML v1.0//EN
CALSCALE:GREGORIAN
METHOD:PUBLISH
X-ORIGINAL-URL:https://paleoseismicity.org
X-WR-CALDESC:Events for paleoseismicity.org
REFRESH-INTERVAL;VALUE=DURATION:PT1H
X-Robots-Tag:noindex
X-PUBLISHED-TTL:PT1H
BEGIN:VTIMEZONE
TZID:UTC
BEGIN:STANDARD
TZOFFSETFROM:+0000
TZOFFSETTO:+0000
TZNAME:UTC
DTSTART:20190101T000000
END:STANDARD
END:VTIMEZONE
BEGIN:VEVENT
DTSTART;VALUE=DATE:20200524
DTEND;VALUE=DATE:20200529
DTSTAMP:20260422T100434
CREATED:20191205T222852Z
LAST-MODIFIED:20200320T134004Z
UID:11384-1590278400-1590710399@paleoseismicity.org
SUMMARY:Int'l Summer School Glacial Megaflood Landforms and Sediments
DESCRIPTION:UPDATE 2020-03-20\nDue to the Corona situation the summer school can not take place in May and will likely be postponed until spring 2021.\n*******************************************************************************************************************\nThe International Summer School on Glacial Megaflood Landforms and Sediments is dedicated to PhD students and early career researchers whose research are related with the Quaternary geology and glacial geomorphology. The School focuses on the Late Pleistocene glacial megaflood-related landforms and sediments and is based on lectures and discussions during the field trips and courses. Post-school publications in an international periodical journal on Earth sciences are expected\, and details will be given in the 2nd circular. \nProgram outline:\nDay 1. Opening ceremony and introductory lecture.\nDay 2. Preliminary lecture\, keynote lectures\, participant presentations.\nDay 3. Field trip and courses: landforms and sediments of subglacial megafloods. Poster session.\nDay 4. Field trip and courses: megaflood-related proglacial landforms and sediments.\nDay 5. Final lecture. Closing ceremony and departure from Suwałki.
URL:https://paleoseismicity.org/event/intl-summer-school-glacial-megaflood-landforms-and-sediments/
LOCATION:Suwałki\, Poland
END:VEVENT
END:VCALENDAR