BEGIN:VCALENDAR
VERSION:2.0
PRODID:-//paleoseismicity.org - ECPv6.15.20//NONSGML v1.0//EN
CALSCALE:GREGORIAN
METHOD:PUBLISH
X-ORIGINAL-URL:https://paleoseismicity.org
X-WR-CALDESC:Events for paleoseismicity.org
REFRESH-INTERVAL;VALUE=DURATION:PT1H
X-Robots-Tag:noindex
X-PUBLISHED-TTL:PT1H
BEGIN:VTIMEZONE
TZID:UTC
BEGIN:STANDARD
TZOFFSETFROM:+0000
TZOFFSETTO:+0000
TZNAME:UTC
DTSTART:20190101T000000
END:STANDARD
END:VTIMEZONE
BEGIN:VEVENT
DTSTART;VALUE=DATE:20200324
DTEND;VALUE=DATE:20200327
DTSTAMP:20260420T145016
CREATED:20191009T081053Z
LAST-MODIFIED:20191009T081053Z
UID:11273-1585008000-1585267199@paleoseismicity.org
SUMMARY:Analog Modeling of Tectonic Processes Workshop 2020
DESCRIPTION:
URL:https://paleoseismicity.org/event/analog-modeling-of-tectonic-processes-workshop-2020/
LOCATION:University of Memphis\, Memphis\, TN\, United States
END:VEVENT
END:VCALENDAR