BEGIN:VCALENDAR
VERSION:2.0
PRODID:-//paleoseismicity.org - ECPv6.15.20//NONSGML v1.0//EN
CALSCALE:GREGORIAN
METHOD:PUBLISH
X-WR-CALNAME:paleoseismicity.org
X-ORIGINAL-URL:https://paleoseismicity.org
X-WR-CALDESC:Events for paleoseismicity.org
REFRESH-INTERVAL;VALUE=DURATION:PT1H
X-Robots-Tag:noindex
X-PUBLISHED-TTL:PT1H
BEGIN:VTIMEZONE
TZID:UTC
BEGIN:STANDARD
TZOFFSETFROM:+0000
TZOFFSETTO:+0000
TZNAME:UTC
DTSTART:20180101T000000
END:STANDARD
END:VTIMEZONE
BEGIN:VEVENT
DTSTART;VALUE=DATE:20191015
DTEND;VALUE=DATE:20191019
DTSTAMP:20260423T024343
CREATED:20190706T192739Z
LAST-MODIFIED:20190706T193047Z
UID:11141-1571097600-1571443199@paleoseismicity.org
SUMMARY:20th Anniversary of 1999 Marmara Earthquakes
DESCRIPTION:We would like to invite you to the international meeting organized by Active Tectonics Research Group (ATAG) of Turkey in commemoration of 20th Anniversary of 1999 Marmara Earthquakes. Following these two devastating earthquakes (1999 Mw 7.4 İzmit and 1999 Mw 7.2 Düzce Earthquakes)\, a vast number of international/national projects carried out in the Marmara Sea region of Turkey and the outcomes of research done contributed significantly to multi-disciplinary studies in active tectonics. The meeting aims to revisit the results of these important number of observations together with new research going on to highlight the current state of seismic hazard in Marmara Sea where the next big earthquakes is expected to occur. \n  \nATAG founded by late Aykut Barka\, organizes annual meetings since 1997 to gather earth scientists and students studying active tectonics of Turkey and neighbouring regions. This year 23. ATAG meeting aims to bring together international earth science community to share the experience gained in many fields of active tectonics. There will be an extensive session dedicated to Active Tectonics of Sea of Marmara: “A thorough review of research conducted for the last 20 years”. All contributions from the following active tectonics related themes are welcome: \n  \n–           Active tectonics of Anatolia and the adjacent regions \n–           Paleoseismology \n–           Seismology\, Seismotectonics \n–           Tectonic Geodesy\, Remote Sensing of Earthquake Deformation \n–           Tectonic Geomorphology \n–           Monitoring and Modelling Crustal Deformation \n–           Marine/Lacustrine Geology and Geochemistry in Active Tectonics \n–           Archaeoseismology \n  \nATAG meeting will be hosted by Istanbul Technical University from October 15 to October 18\, 2019. Opening ceremony lectures will be given by Prof. John Dewey\, Prof. Xavier Le Pichon and Prof. Dan McKenzie. \n  \nDeadline for abstract submission is August 17\, 2019 (3:01 am GMT +3). \n  \nPlease contact Dr. Gülsen Ucarkus to notify your participation or if you have any questions regarding the meeting ( e-mail: ucarkus@itu.edu.tr). \n 
URL:https://paleoseismicity.org/event/20th-anniversary-of-1999-marmara-earthquakes/
LOCATION:Istanbul Technical University\, Istanbul\, Turkey
ORGANIZER;CN="G%C3%BClsen Ucarkus":MAILTO:ucarkus@itu.edu.tr
END:VEVENT
END:VCALENDAR