BEGIN:VCALENDAR
VERSION:2.0
PRODID:-//paleoseismicity.org - ECPv6.15.20//NONSGML v1.0//EN
CALSCALE:GREGORIAN
METHOD:PUBLISH
X-ORIGINAL-URL:https://paleoseismicity.org
X-WR-CALDESC:Events for paleoseismicity.org
REFRESH-INTERVAL;VALUE=DURATION:PT1H
X-Robots-Tag:noindex
X-PUBLISHED-TTL:PT1H
BEGIN:VTIMEZONE
TZID:UTC
BEGIN:STANDARD
TZOFFSETFROM:+0000
TZOFFSETTO:+0000
TZNAME:UTC
DTSTART:20180101T000000
END:STANDARD
END:VTIMEZONE
BEGIN:VEVENT
DTSTART;VALUE=DATE:20191007
DTEND;VALUE=DATE:20191011
DTSTAMP:20260423T000120
CREATED:20190416T094951Z
LAST-MODIFIED:20190416T094951Z
UID:11014-1570406400-1570751999@paleoseismicity.org
SUMMARY:International School "Structure and Composition of the Lower Continental Crust"
DESCRIPTION:the Earth and Environmental Sciences PhD Program of the University of Pavia\, in collaboration with the Institute of Geosciences and Earth Resources (National Research Council of Italy)\, the Italian Group of Petrology and the Italian Society of Mineralogy and Petrology\, is pleased to announce the International School entitled “Structure and Composition of the Lower Continental Crust”. The School will be held on October 7-10\, 2019 in the historical Palazzo Vistarino (https://www.palazzovistarino.it/eng/)\, Pavia (Italy). \nThe major purpose of the School is to share and discuss the modern knowledge of the lower continental crust\, from geological\, structural\, petrological\, geochemical and geophysical viewpoints. The School is targeted to PhD students\, post-docs\, advanced master students and young researchers\, and comprises a poster session for participants. \nTo apply to the School\, a short CV and a poster’s abstract should be sent to chiara.trabella@unipv.it by July 8\, 2019. Registration is free. Participants wishing to apply for a free accommodation at Palazzo Vistarino’s guesthouse (six availabilities)\, should also send: (i) a statement of interest in the School\, and (ii) a letter of support from a supervisor. \nA second announcement will be soon sent\, together with the School’s program. Further information is available on http://phd-dsta.unipv.it/lcc \nLectures will be held by:\n– Roberto Braga\, University of Bologna (Italy)\n– Bruna B. Carvalho\, University of Padova (Italy)\n– Bernardo Cesare\, University of Padova (Italy)\n– György Hetényi\, University of Lausanne (Switzerland)\n– Matthew D. Jackson\, Imperial College\, London (United Kingdom)\n– Sandra Piazolo\, University of Leeds (United Kingdom)\n– Silvano Sinigoi\, University of Trieste (Italy)\n– Thomas Zack\, University of Gothenburg (Sweden)
URL:https://paleoseismicity.org/event/international-school-structure-and-composition-of-the-lower-continental-crust/
LOCATION:Palazzo Vistarino\, Pavia\, Italy
END:VEVENT
END:VCALENDAR