BEGIN:VCALENDAR
VERSION:2.0
PRODID:-//paleoseismicity.org - ECPv6.15.20//NONSGML v1.0//EN
CALSCALE:GREGORIAN
METHOD:PUBLISH
X-WR-CALNAME:paleoseismicity.org
X-ORIGINAL-URL:https://paleoseismicity.org
X-WR-CALDESC:Events for paleoseismicity.org
REFRESH-INTERVAL;VALUE=DURATION:PT1H
X-Robots-Tag:noindex
X-PUBLISHED-TTL:PT1H
BEGIN:VTIMEZONE
TZID:UTC
BEGIN:STANDARD
TZOFFSETFROM:+0000
TZOFFSETTO:+0000
TZNAME:UTC
DTSTART:20180101T000000
END:STANDARD
END:VTIMEZONE
BEGIN:VEVENT
DTSTART;VALUE=DATE:20190924
DTEND;VALUE=DATE:20190927
DTSTAMP:20260423T000743
CREATED:20181217T130213Z
LAST-MODIFIED:20181217T130213Z
UID:10851-1569283200-1569542399@paleoseismicity.org
SUMMARY:8th International Symposium on Andean Geodynamics
DESCRIPTION:
URL:https://paleoseismicity.org/event/8th-international-symposium-on-andean-geodynamics/
LOCATION:Quito\, Quito\, Ecuador
END:VEVENT
BEGIN:VEVENT
DTSTART;VALUE=DATE:20190924
DTEND;VALUE=DATE:20190928
DTSTAMP:20260423T000743
CREATED:20190109T090352Z
LAST-MODIFIED:20190416T094707Z
UID:10880-1569283200-1569628799@paleoseismicity.org
SUMMARY:INQUA summer school on active tectonics and tectonic geomorphology\, Prague
DESCRIPTION:The INQUA Focus Group on Earthquake Geology and Seismic Hazards (EGSHaz) will run the International Summer School on Active Tectonics and Tectonic Geomorphology in Prague from 24-27 September\, 2019. This event replaces the PATA Days this year and aims mainly at MSc./PhD students and Early Career Researchers. Please note that this is not a classical PATA Days event where new science will be shown and discussed. The summer school is organized by the Institute of Rock Structure and Mechanics\, Czech Academy of Sciences and the Charles University in Prague\, Faculty of Science. Please find a pdf of the first circular here.
URL:https://paleoseismicity.org/event/pata-summer-school-on-active-tectonics-and-tectonic-geomorphology-prague/
LOCATION:Prague\, Prague\, Czech Republic
END:VEVENT
END:VCALENDAR