BEGIN:VCALENDAR
VERSION:2.0
PRODID:-//paleoseismicity.org - ECPv6.15.20//NONSGML v1.0//EN
CALSCALE:GREGORIAN
METHOD:PUBLISH
X-WR-CALNAME:paleoseismicity.org
X-ORIGINAL-URL:https://paleoseismicity.org
X-WR-CALDESC:Events for paleoseismicity.org
REFRESH-INTERVAL;VALUE=DURATION:PT1H
X-Robots-Tag:noindex
X-PUBLISHED-TTL:PT1H
BEGIN:VTIMEZONE
TZID:UTC
BEGIN:STANDARD
TZOFFSETFROM:+0000
TZOFFSETTO:+0000
TZNAME:UTC
DTSTART:20180101T000000
END:STANDARD
END:VTIMEZONE
BEGIN:VEVENT
DTSTART;VALUE=DATE:20190904
DTEND;VALUE=DATE:20190907
DTSTAMP:20260423T035824
CREATED:20181018T193152Z
LAST-MODIFIED:20181018T193152Z
UID:10751-1567555200-1567814399@paleoseismicity.org
SUMMARY:14th Emile Argand Conference on Alpine Geological Studies
DESCRIPTION:The biannual Emile Argand Conference on Alpine Geological Studies is organized by European universities\, with the support of the European Geosciences Union. The main purpose of this meeting is to organize oral and poster presentations\, favouring exchanges between all members of the Earth Sciences community. All aspects relevant to the past history and present dynamics of the Alpine belt are covered by the meeting. In addition field excursions are organized before and after the meeting. Therefore this meeting is a unique occasion for researchers from different disciplines (tectonics and structural geology\, petrology and geochemistry\, sedimentology and basin analysis\, geophysics and geomorphology) to confront their methods and results.
URL:https://paleoseismicity.org/event/14th-emile-argand-conference-on-alpine-geological-studies/
LOCATION:Sion\, Switzerland
END:VEVENT
END:VCALENDAR