BEGIN:VCALENDAR
VERSION:2.0
PRODID:-//paleoseismicity.org - ECPv6.15.20//NONSGML v1.0//EN
CALSCALE:GREGORIAN
METHOD:PUBLISH
X-WR-CALNAME:paleoseismicity.org
X-ORIGINAL-URL:https://paleoseismicity.org
X-WR-CALDESC:Events for paleoseismicity.org
REFRESH-INTERVAL;VALUE=DURATION:PT1H
X-Robots-Tag:noindex
X-PUBLISHED-TTL:PT1H
BEGIN:VTIMEZONE
TZID:UTC
BEGIN:STANDARD
TZOFFSETFROM:+0000
TZOFFSETTO:+0000
TZNAME:UTC
DTSTART:20180101T000000
END:STANDARD
END:VTIMEZONE
BEGIN:VEVENT
DTSTART;VALUE=DATE:20190526
DTEND;VALUE=DATE:20190608
DTSTAMP:20260423T040453
CREATED:20190228T142349Z
LAST-MODIFIED:20190228T142349Z
UID:10976-1558828800-1559951999@paleoseismicity.org
SUMMARY:Hydrographic and LiDAR survey international summer school
DESCRIPTION:
URL:https://paleoseismicity.org/event/hydrographic-and-lidar-survey-international-summer-school/
LOCATION:University Laval\, Québec city\, Canada
END:VEVENT
END:VCALENDAR