BEGIN:VCALENDAR
VERSION:2.0
PRODID:-//paleoseismicity.org - ECPv6.15.20//NONSGML v1.0//EN
CALSCALE:GREGORIAN
METHOD:PUBLISH
X-ORIGINAL-URL:https://paleoseismicity.org
X-WR-CALDESC:Events for paleoseismicity.org
REFRESH-INTERVAL;VALUE=DURATION:PT1H
X-Robots-Tag:noindex
X-PUBLISHED-TTL:PT1H
BEGIN:VTIMEZONE
TZID:UTC
BEGIN:STANDARD
TZOFFSETFROM:+0000
TZOFFSETTO:+0000
TZNAME:UTC
DTSTART:20180101T000000
END:STANDARD
END:VTIMEZONE
BEGIN:VEVENT
DTSTART;VALUE=DATE:20190405
DTEND;VALUE=DATE:20190408
DTSTAMP:20260425T114145
CREATED:20181018T193700Z
LAST-MODIFIED:20181018T193700Z
UID:10754-1554422400-1554681599@paleoseismicity.org
SUMMARY:Teaching Structural Geology and Tectonics in the 21st century
DESCRIPTION:How to define a successful SG&T curriculum and what are essential components thereof? How to best deal with a constrained BSc curriculum (what content goes where)? How to work with very large class sizes\, how to counter low levels of student engagement and how to manage a lack of (numerical) background knowledge? How to build links to different geosciences disciplines?\nInnovative approaches to teaching structural geology and tectonics and how to best integrate modern teaching techniques (e.g. flipped classrooms\, virtual outcrops\, lecture recordings) and technologies (digital mapping and terrain models\, numerical and analogue modelling\, 3D-4D visualization\, virtual reality\, social media and in-class room experiments).\nField work and strategies on how to defend it against threats from funding cuts\, increasingly rigorous health and safety concerns and efforts to establish virtual field trips. Is teaching field skills outdated? Who will be teaching field skills in the future?\nProfessional careers we are educating for now\, and will be educating for in 25 years (e.g. applied structural geology in geothermal energy extraction/radioactive waste management/CO2 sequestration). What key skills are needed for these jobs?\n\n 
URL:https://paleoseismicity.org/event/teaching-structural-geology-and-tectonics-in-the-21st-century/
LOCATION:Near Vienna\, Austria
END:VEVENT
END:VCALENDAR